Workbook
Name _Hlk75865405: ★①様式3号の１入力シート!#REF!
Name _Hlk75865405: '★②様式3号の２入力シート '!#REF!
Name _Hlk75865405: ①様式3号の1印刷!#REF!
Name _Hlk75865405: ②様式3号の２印刷!#REF!

Sheet ★①様式3号の１入力シート
A1: （様式3号の1） | AC1: （1枚目 県社協提出用） | AF1: リスト | AH1: リスト
P2: 受 付 社 協 | Z2: （支部・支所） | AF2: ○ | AH2: 普通
P3: エントリー番号 | AF3: ◎ | AH3: 当座
AH4: 貯蓄
A5: 令和８年度ひょうごボランタリー基金
A6: 県民ボランタリー活動助成金交付申請書兼請求書
A7: 社会福祉法人兵庫県社会福祉協議会会長 様
A8: （ひょうごボランタリープラザ）
T9: 申請日 | V9: 令和 | Y9: 年 | AA9: 月 | AC9: 日 | AE9: 申請日
A10: 団 体 名 | AE10: 団体名 | AF10: =IF(D10="","NG","OK") -> NG
D11: ※エントリー書に記載した名称を記入してください（例：朗読ボランティアグループさくら）
A12: 代表者 職・氏名 | D12: 職名 | P12: 氏名 | AE12: 職名 | AF12: =IF(F12="","NG","OK") -> NG | AH12: 氏名 | AI12: =IF(R12="","NG","OK") -> NG
A13: 団体の主たる事務所又は代表者の住所 | D13: 〒 | AE13: 〒 | AF13: =IF(E13="","NG","OK") -> NG | AH13: 住所 | AI13: =IF(I13="","NG","OK") -> NG
A14: 電 話 番 号 | P14: ＦＡＸ番号 | AE14: 電話番号 | AF14: =IF(D14="","NG","OK") -> NG | AH14: FAX | AI14: =IF(S14="","要確認","OK") -> 要確認
A15: 令和８年度ひょうごボランタリー基金県民ボランタリー活動助成金の交付を受けたいので、次のとおり申請及び請求します。
A16: 助成金交付申請及び請求額 | D16: 20000 | I16: 円 | J16: 団体の構成人数 | U16: 人 ※実際の活動人数を記入してください。 | AE16: 構成人数 | AF16: =IF(P16="","NG","OK") -> NG
F17: 氏 名 | L17: 住 所 | X17: 電 話 番 号
A18: 構成員の名簿 | D18: 1 代表者 | AE18: １代表者 | AF18: =IF(F18="","NG","OK") -> NG
A19: ※ 上記「団体の構成人数」のうち、代表者、会計担当を含めて5名分を記入してください。 | D19: 2 会 計 | AE19: ２会計 | AF19: =IF(F19="","NG","OK") -> NG
D20: 3 | AE20: 3 | AF20: =IF(F20="","NG","OK") -> NG
A21: ※ 5名以上の構成員がいる場合、追加の名簿等を添付していただく必要はありません。 | D21: 4 | AE21: 4 | AF21: =IF(F21="","NG","OK") -> NG
D22: 5 | AE22: 5 | AF22: =IF(F22="","NG","OK") -> NG
A23: ※ 代表者と会計が同一人物の場合は記入してください。 | D23: 6 | AE23: 6 | AF23: =IF(F23="","要確認","OK") -> 要確認
A24: 活動分野 | C24: 次の19の活動分野の中で、メインの活動分野を一つ選んで◎を、それ以外の活動分野すべてに○を、（ ）に記入してください。 ドロップダウンリストから選択
C25: ( | E25: ) 1 | F25: 保健、医療又は福祉の増進を図る活動 | L25: ( | N25: ) 8 | O25: 災害救援活動 | U25: ( | W25: )15 | X25: 科学技術の振興を図る活動 | AE25: 活動分野 | AF25: =IF(Z31=1,"OK","NG") -> NG
C26: ( | E26: ) 2 | F26: 社会教育の推進を図る活動 | L26: ( | N26: ) 9 | O26: 地域安全活動 | U26: ( | W26: )16 | X26: 経済活動の活性化を図る活動
C27: ( | E27: ) 3 | F27: まちづくりの推進を図る活動 | L27: ( | N27: )10 | O27: 人権の擁護又は平和の推進を図る活動 | U27: ( | W27: )17 | X27: 職業能力の開発又は雇用機会の拡充を支援する活動
C28: ( | E28: ) 4 | F28: 観光の振興を図る活動 | L28: ( | N28: )11 | O28: 国際協力の活動 | U28: ( | W28: )18 | X28: 消費者の保護を図る活動
C29: ( | E29: ) 5 | F29: 農山漁村又は中山間地域の振興を図る活動 | L29: ( | N29: )12 | O29: 男女共同参画社会の形成の促進を図る活動 | U29: ( | W29: )19 | X29: 前各号に掲げる活動を行う団体の運営又は活動に関する連絡、助言又は援助の活動
C30: ( | E30: ) 6 | F30: 学術、文化、芸術又はスポーツの振興を図る活動 | L30: ( | N30: )13 | O30: 子どもの健全育成を図る活動
C31: ( | E31: ) 7 | F31: 環境の保全を図る活動 | L31: ( | N31: )14 | O31: 情報化社会の発展を図る活動 | Y31: ◎ | Z31: =COUNTIF(D25:V31,"◎") -> 0 | AA31: ○ | AB31: =COUNTIF(D25:V31,"○") -> 0
A33: 助成金の振込先 | AE33: 銀行名 | AF33: =IF(D34="","NG","OK") -> NG | AG33: 金融機関番号 | AH33: =IF(N34="","NG","OK") -> NG
A34: 銀行名 | K34: 金融機関番号（４桁） | Q34: 支店名 | X34: 支店 | Y34: 店番号 （３桁） | AE34: 支店名 | AF34: =IF(S34="","NG","OK") -> NG | AG34: 店番号 | AH34: =IF(AA34="","NG","OK") -> NG
A35: 口座番号 （７桁） | V35: 預金種目 | AE35: 口座番号 | AF35: =IF(D35="","NG","OK") -> NG | AG35: 預金種目 | AH35: =IF(Y35="","NG","OK") -> NG
A36: お受取人 | D36: フリガナ | AE36: フリガナ | AF36: =IF(F36="","NG","OK") -> NG
D37: お名前 | AE37: 名前 | AF37: =IF(F37="","NG","OK") -> NG
A39: （注意事項） | D39: ① 通帳の表紙及び表紙裏をご確認のうえ、正確にご記入ください。 | W39: 市区町社協チェック✔欄
D40: ② お受取人「お名前」は表紙に記載されている名義を、「フリガナ」は表紙に | X40: □ | Z40: 振込先を通帳と
D41: 記載されている名義のフリガナを全て記入してください。 | Z41: 照合しました。
A43: 県民ボランタリー活動助成金交付申請書兼請求書の記入例を参考に、ご記入ください。
...

Sheet ★②様式3号の２入力シート 
A1: （様式3号の2） | AC1: （1枚目 県社協提出用）
P2: 受 付 社 協 | Z2: （支部・支所）
P3: エントリー番号
A5: 令和８年度ひょうごボランタリー基金
A6: 県民ボランタリー活動助成金交付申請書兼請求書
A7: 社会福祉法人兵庫県社会福祉協議会会長 様
A8: （ひょうごボランタリープラザ）
T9: 申請日 | V9: 令和 | X9: =IF(★①様式3号の１入力シート!$X$9="","",★①様式3号の１入力シート!$X$9) | Y9: 年 | Z9: =IF(★①様式3号の１入力シート!$Z$9="","",★①様式3号の１入力シート!$Z$9) | AA9: 月 | AB9: =IF(★①様式3号の１入力シート!$AB$9="","",★①様式3号の１入力シート!$AB$9) | AC9: 日
A10: 団 体 名 | D10: =IF(★①様式3号の１入力シート!$D$10="","",★①様式3号の１入力シート!$D$10)
D11: ※エントリー書に記載した名称を記入してください（例：朗読ボランティアグループさくら）
A13: ○ 活動の支出
A14: （支出の部）
A15: 科 目 | F15: 支出の内容 | X15: 金額（円）
A25: 合 計 | F25: =IF(X25<40000,"合計金額が、40,000円未満です！ →","") -> 合計金額が、40,000円未満です！ → | X25: =SUM(X16:AC24) -> 0 | AE25: 金額 | AF25: =IF(X25<40000,"NG","OK") -> NG
A27: (注意事項)
A28: ① | B28: 合計で、40,000円（税込金額）以上の対象経費支出が必要です。
A29: ② | B29: 支出の部「対象経費(合計)」金額欄にはチラシの「対象経費」欄をよくご確認のうえ、この助成の対象となる活動を行った際に、対象 となる経費を支払った合計金額を記入してください。
A30: ③ | B30: 「金額」欄には、この助成の対象となる活動を行った際に、対象となる経費を支払った金額を記入してください。
A31: ④ | B31: チラシの「対象経費」欄をよくご確認のうえ、記入してください。
A32: ※1 | B32: この用紙に記入された個人情報は、本事業及びひょうごボランタリープラザが実施する「県民ボランタリー活動実態調査」の送付先として使用することがありますが、それ以外の目的で使用することはありません。なお、助成決定団体は、団体名、活動分野、活動地域（市区町名）が情報公開の対象となります。
A33: ※2 | B33: 1枚目社協用、2枚目 市町社協控用、３枚目 区社協・市町社協支部・支所控用、4枚目 団体控用の4枚印刷してください。

Sheet ①様式3号の1印刷
A1: （様式3号の1） | AC1: （1枚目 県社協提出用）
P2: 受 付 社 協 | Z2: （支部・支所）
P3: エントリー番号
A5: 令和８年度ひょうごボランタリー基金
A6: 県民ボランタリー活動助成金交付申請書兼請求書
A7: 社会福祉法人兵庫県社会福祉協議会会長 様
A8: （ひょうごボランタリープラザ）
T9: 申請日 | V9: 令和 | X9: =IF(★①様式3号の１入力シート!$X$9="","",★①様式3号の１入力シート!$X$9) | Y9: 年 | Z9: =IF(★①様式3号の１入力シート!$Z$9="","",★①様式3号の１入力シート!$Z$9) | AA9: 月 | AB9: =IF(★①様式3号の１入力シート!$AB$9="","",★①様式3号の１入力シート!$AB$9) | AC9: 日
A10: 団 体 名 | D10: =IF(★①様式3号の１入力シート!$D$10="","",★①様式3号の１入力シート!$D$10)
D11: ※エントリー書に記載した名称を記入してください（例：朗読ボランティアグループさくら）
A12: 代表者 職・氏名 | D12: 職名 | F12: =IF(★①様式3号の１入力シート!$F$12="","",★①様式3号の１入力シート!$F$12) | P12: 氏名 | R12: =IF(★①様式3号の１入力シート!$R$12="","",★①様式3号の１入力シート!$R$12)
A13: 団体の主たる事務所又は代表者の住所 | D13: 〒 | E13: =IF(★①様式3号の１入力シート!$E$13="","",★①様式3号の１入力シート!$E$13) | I13: =IF(★①様式3号の１入力シート!$I$13="","",★①様式3号の１入力シート!$I$13)
A14: 電 話 番 号 | D14: =IF(★①様式3号の１入力シート!$D$14="","",★①様式3号の１入力シート!$D$14) | P14: ＦＡＸ番号 | S14: =IF(★①様式3号の１入力シート!$S$14="","",★①様式3号の１入力シート!$S$14)
A15: 令和８年度ひょうごボランタリー基金県民ボランタリー活動助成金の交付を受けたいので、次のとおり申請及び請求します。
A16: 助成金交付申請及び請求額 | D16: 20000 | I16: 円 | J16: 団体の構成人数 | P16: =IF(★①様式3号の１入力シート!$P$16="","",★①様式3号の１入力シート!$P$16) | U16: 人 ※実際の活動人数を記入してください。
F17: 氏 名 | L17: 住 所 | X17: 電 話 番 号
A18: 構成員の名簿 | D18: 1 代表者 | F18: =IF(★①様式3号の１入力シート!$F$18="","",★①様式3号の１入力シート!$F$18) | L18: =IF(★①様式3号の１入力シート!$L$18="","",★①様式3号の１入力シート!$L$18) | X18: =IF(★①様式3号の１入力シート!$X$18="","",★①様式3号の１入力シート!$X$18)
A19: ※ 上記「団体の構成人数」のうち、代表者、会計担当を含めて5名分を記入してください。 | D19: 2 会 計 | F19: =IF(★①様式3号の１入力シート!$F$19="","",★①様式3号の１入力シート!$F$19) | L19: =IF(★①様式3号の１入力シート!$L$19="","",★①様式3号の１入力シート!$L$19) | X19: =IF(★①様式3号の１入力シート!$X$19="","",★①様式3号の１入力シート!$X$19)
D20: 3 | F20: =IF(★①様式3号の１入力シート!$F$20="","",★①様式3号の１入力シート!$F$20) | L20: =IF(★①様式3号の１入力シート!$L$20="","",★①様式3号の１入力シート!$L$20) | X20: =IF(★①様式3号の１入力シート!$X$20="","",★①様式3号の１入力シート!$X$20)
A21: ※ 5名以上の構成員がいる場合、追加の名簿等を添付していただく必要はありません。 | D21: 4 | F21: =IF(★①様式3号の１入力シート!$F$21="","",★①様式3号の１入力シート!$F$21) | L21: =IF(★①様式3号の１入力シート!$L$21="","",★①様式3号の１入力シート!$L$21) | X21: =IF(★①様式3号の１入力シート!$X$21="","",★①様式3号の１入力シート!$X$21)
D22: 5 | F22: =IF(★①様式3号の１入力シート!$F$22="","",★①様式3号の１入力シート!$F$22) | L22: =IF(★①様式3号の１入力シート!$L$22="","",★①様式3号の１入力シート!$L$22) | X22: =IF(★①様式3号の１入力シート!$X$22="","",★①様式3号の１入力シート!$X$22)
A23: ※ 代表者と会計が同一人物の場合は記入してください。 | D23: 6 | F23: =IF(★①様式3号の１入力シート!$F$23="","",★①様式3号の１入力シート!$F$23) | L23: =IF(★①様式3号の１入力シート!$L$23="","",★①様式3号の１入力シート!$L$23) | X23: =IF(★①様式3号の１入力シート!$X$23="","",★①様式3号の１入力シート!$X$23)
A24: 活動分野 | C24: 次の19の活動分野の中で、メインの活動分野を一つ選んで◎を、それ以外の活動分野すべてに○を、（ ）に記入してください。 ドロップダウンリストから選択
C25: ( | D25: =IF(★①様式3号の１入力シート!$D$25="","",★①様式3号の１入力シート!$D$25) | E25: ) 1 | F25: 保健、医療又は福祉の増進を図る活動 | L25: ( | M25: =IF(★①様式3号の１入力シート!$M$25="","",★①様式3号の１入力シート!$M$25) | N25: ) 8 | O25: 災害救援活動 | U25: ( | V25: =IF(★①様式3号の１入力シート!$V$25="","",★①様式3号の１入力シート!$V$25) | W25: )15 | X25: 科学技術の振興を図る活動
C26: ( | D26: =IF(★①様式3号の１入力シート!$D$26="","",★①様式3号の１入力シート!$D$26) | E26: ) 2 | F26: 社会教育の推進を図る活動 | L26: ( | M26: =IF(★①様式3号の１入力シート!$M$26="","",★①様式3号の１入力シート!$M$26) | N26: ) 9 | O26: 地域安全活動 | U26: ( | V26: =IF(★①様式3号の１入力シート!$V$26="","",★①様式3号の１入力シート!$V$26) | W26: )16 | X26: 経済活動の活性化を図る活動
C27: ( | D27: =IF(★①様式3号の１入力シート!$D$27="","",★①様式3号の１入力シート!$D$27) | E27: ) 3 | F27: まちづくりの推進を図る活動 | L27: ( | M27: =IF(★①様式3号の１入力シート!$M$27="","",★①様式3号の１入力シート!$M$27) | N27: )10 | O27: 人権の擁護又は平和の推進を図る活動 | U27: ( | V27: =IF(★①様式3号の１入力シート!$V$27="","",★①様式3号の１入力シート!$V$27) | W27: )17 | X27: 職業能力の開発又は雇用機会の拡充を支援する活動
C28: ( | D28: =IF(★①様式3号の１入力シート!$D$28="","",★①様式3号の１入力シート!$D$28) | E28: ) 4 | F28: 観光の振興を図る活動 | L28: ( | M28: =IF(★①様式3号の１入力シート!$M$28="","",★①様式3号の１入力シート!$M$28) | N28: )11 | O28: 国際協力の活動 | U28: ( | V28: =IF(★①様式3号の１入力シート!$V$28="","",★①様式3号の１入力シート!$V$28) | W28: )18 | X28: 消費者の保護を図る活動
C29: ( | D29: =IF(★①様式3号の１入力シート!$D$29="","",★①様式3号の１入力シート!$D$29) | E29: ) 5 | F29: 農山漁村又は中山間地域の振興を図る活動 | L29: ( | M29: =IF(★①様式3号の１入力シート!$M$29="","",★①様式3号の１入力シート!$M$29) | N29: )12 | O29: 男女共同参画社会の形成の促進を図る活動 | U29: ( | V29: =IF(★①様式3号の１入力シート!$V$29="","",★①様式3号の１入力シート!$V$29) | W29: )19 | X29: 前各号に掲げる活動を行う団体の運営又は活動に関する連絡、助言又は援助の活動
C30: ( | D30: =IF(★①様式3号の１入力シート!$D$30="","",★①様式3号の１入力シート!$D$30) | E30: ) 6 | F30: 学術、文化、芸術又はスポーツの振興を図る活動 | L30: ( | M30: =IF(★①様式3号の１入力シート!$M$30="","",★①様式3号の１入力シート!$M$30) | N30: )13 | O30: 子どもの健全育成を図る活動
C31: ( | D31: =IF(★①様式3号の１入力シート!$D$31="","",★①様式3号の１入力シート!$D$31) | E31: ) 7 | F31: 環境の保全を図る活動 | L31: ( | M31: =IF(★①様式3号の１入力シート!$M$31="","",★①様式3号の１入力シート!$M$31) | N31: )14 | O31: 情報化社会の発展を図る活動
A33: 助成金の振込先
A34: 銀行名 | D34: =IF(★①様式3号の１入力シート!$D$34="","",★①様式3号の１入力シート!$D$34) | K34: 金融機関番号（４桁） | N34: =IF(★①様式3号の１入力シート!$N$34="","",★①様式3号の１入力シート!$N$34) | Q34: 支店名 | S34: =IF(★①様式3号の１入力シート!$S$34="","",★①様式3号の１入力シート!$S$34) | X34: 支店 | Y34: 店番号 （３桁） | AA34: =IF(★①様式3号の１入力シート!$AA$34="","",★①様式3号の１入力シート!$AA$34)
A35: 口座番号 （７桁） | D35: =IF(★①様式3号の１入力シート!$D$35="","",★①様式3号の１入力シート!$D$35) | V35: 預金種目 | Y35: =IF(★①様式3号の１入力シート!$Y$35="","",★①様式3号の１入力シート!$Y$35)
A36: お受取人 | D36: フリガナ | F36: =IF(★①様式3号の１入力シート!$F$36="","",SUBSTITUTE(SUBSTITUTE(SUBSTITUTE(SUBSTITUTE(SUBSTITUTE(SUBSTITUTE(SUBSTITUTE(SUBSTITUTE(SUBSTITUTE(★①様式3号の１入力シート!$F$36,"ｧ","ｱ"),"ｨ","ｲ"),"ｩ","ｳ"),"ｪ","ｴ"),"ｫ","ｵ"),"ｯ","ﾂ"),"ｬ","ﾔ"),"ｭ","ﾕ"),"ｮ","ﾖ"))
D37: お名前 | F37: =IF(★①様式3号の１入力シート!$F$37="","",★①様式3号の１入力シート!$F$37)
A39: （注意事項） | D39: ① 通帳の表紙及び表紙裏をご確認のうえ、正確にご記入ください。 | W39: 市区町社協チェック✔欄
D40: ② お受取人「お名前」は表紙に記載されている名義を、「フリガナ」は表紙に | X40: □ | Z40: 振込先を通帳と
D41: 記載されている名義のフリガナを全て記入してください。 | Z41: 照合しました。
A43: 県民ボランタリー活動助成金交付申請書兼請求書の記入例を参考に、ご記入ください。
A44: ○ 活動実績
...

Sheet ②様式3号の２印刷
A1: （様式3号の2） | AC1: （1枚目 県社協提出用）
P2: 受 付 社 協 | Z2: （支部・支所）
P3: エントリー番号
A5: 令和８年度ひょうごボランタリー基金
A6: 県民ボランタリー活動助成金交付申請書兼請求書
A7: 社会福祉法人兵庫県社会福祉協議会会長 様
A8: （ひょうごボランタリープラザ）
T9: 申請日 | V9: 令和 | X9: =IF(★①様式3号の１入力シート!$X$9="","",★①様式3号の１入力シート!$X$9) | Y9: 年 | Z9: =IF(★①様式3号の１入力シート!$Z$9="","",★①様式3号の１入力シート!$Z$9) | AA9: 月 | AB9: =IF(★①様式3号の１入力シート!$AB$9="","",★①様式3号の１入力シート!$AB$9) | AC9: 日
A10: 団 体 名 | D10: =IF(★①様式3号の１入力シート!$D$10="","",★①様式3号の１入力シート!$D$10)
D11: ※エントリー書に記載した名称を記入してください（例：朗読ボランティアグループさくら）
A13: ○ 活動の支出
A14: （支出の部）
A15: 科 目 | F15: 支出の内容 | X15: 金額（円）
A16: =IF('★②様式3号の２入力シート '!$A$16="","",'★②様式3号の２入力シート '!$A$16) | F16: =IF('★②様式3号の２入力シート '!$F$16="","",'★②様式3号の２入力シート '!$F$16) | X16: =IF('★②様式3号の２入力シート '!$X$16="","",'★②様式3号の２入力シート '!$X$16)
A17: =IF('★②様式3号の２入力シート '!$A$17="","",'★②様式3号の２入力シート '!$A$17) | F17: =IF('★②様式3号の２入力シート '!$F$17="","",'★②様式3号の２入力シート '!$F$17) | X17: =IF('★②様式3号の２入力シート '!$X$17="","",'★②様式3号の２入力シート '!$X$17)
A18: =IF('★②様式3号の２入力シート '!$A$18="","",'★②様式3号の２入力シート '!$A$18) | F18: =IF('★②様式3号の２入力シート '!$F$18="","",'★②様式3号の２入力シート '!$F$18) | X18: =IF('★②様式3号の２入力シート '!$X$18="","",'★②様式3号の２入力シート '!$X$18)
A19: =IF('★②様式3号の２入力シート '!$A$19="","",'★②様式3号の２入力シート '!$A$19) | F19: =IF('★②様式3号の２入力シート '!$F$19="","",'★②様式3号の２入力シート '!$F$19) | X19: =IF('★②様式3号の２入力シート '!$X$19="","",'★②様式3号の２入力シート '!$X$19)
A20: =IF('★②様式3号の２入力シート '!$A$20="","",'★②様式3号の２入力シート '!$A$20) | F20: =IF('★②様式3号の２入力シート '!$F$20="","",'★②様式3号の２入力シート '!$F$20) | X20: =IF('★②様式3号の２入力シート '!$X$20="","",'★②様式3号の２入力シート '!$X$20)
A21: =IF('★②様式3号の２入力シート '!$A$21="","",'★②様式3号の２入力シート '!$A$21) | F21: =IF('★②様式3号の２入力シート '!$F$21="","",'★②様式3号の２入力シート '!$F$21) | X21: =IF('★②様式3号の２入力シート '!$X$21="","",'★②様式3号の２入力シート '!$X$21)
A22: =IF('★②様式3号の２入力シート '!$A$22="","",'★②様式3号の２入力シート '!$A$22) | F22: =IF('★②様式3号の２入力シート '!$F$22="","",'★②様式3号の２入力シート '!$F$22) | X22: =IF('★②様式3号の２入力シート '!$X$22="","",'★②様式3号の２入力シート '!$X$22)
A23: =IF('★②様式3号の２入力シート '!$A$23="","",'★②様式3号の２入力シート '!$A$23) | F23: =IF('★②様式3号の２入力シート '!$F$23="","",'★②様式3号の２入力シート '!$F$23) | X23: =IF('★②様式3号の２入力シート '!$X$23="","",'★②様式3号の２入力シート '!$X$23)
A24: =IF('★②様式3号の２入力シート '!$A$24="","",'★②様式3号の２入力シート '!$A$24) | F24: =IF('★②様式3号の２入力シート '!$F$24="","",'★②様式3号の２入力シート '!$F$24) | X24: =IF('★②様式3号の２入力シート '!$X$24="","",'★②様式3号の２入力シート '!$X$24)
A25: 合 計 | X25: =IF('★②様式3号の２入力シート '!$X$25="","",'★②様式3号の２入力シート '!$X$25) -> 0
A27: (注意事項)
A28: ① | B28: 合計で、40,000円（税込金額）以上の対象経費支出が必要です。
A29: ② | B29: 支出の部「対象経費(合計)」金額欄にはチラシの「対象経費」欄をよくご確認のうえ、この助成の対象となる活動を行った際に、対象 となる経費を支払った合計金額を記入してください。
A30: ③ | B30: 「金額」欄には、この助成の対象となる活動を行った際に、対象となる経費を支払った金額を記入してください。
A31: ④ | B31: チラシの「対象経費」欄をよくご確認のうえ、記入してください。
A32: ※1 | B32: この用紙に記入された個人情報は、本事業及びひょうごボランタリープラザが実施する「県民ボランタリー活動実態調査」の送付先として使用することがありますが、それ以外の目的で使用することはありません。なお、助成決定団体は、団体名、活動分野、活動地域（市区町名）が情報公開の対象となります。
A33: ※2 | B33: 1枚目社協用、2枚目 市町社協控用、３枚目 区社協・市町社協支部・支所控用、4枚目 団体控用の4枚印刷してください。
A34: （様式3号の2） | AC34: （2枚目 市町社協控え用）
P35: 受 付 社 協 | Z35: （支部・支所）
P36: エントリー番号
A38: 令和８年度ひょうごボランタリー基金
A39: 県民ボランタリー活動助成金交付申請書兼請求書
A40: 社会福祉法人兵庫県社会福祉協議会会長 様
A41: （ひょうごボランタリープラザ）
T42: 申請日 | V42: 令和 | X42: =IF(★①様式3号の１入力シート!$X$9="","",★①様式3号の１入力シート!$X$9) | Y42: 年 | Z42: =IF(★①様式3号の１入力シート!$Z$9="","",★①様式3号の１入力シート!$Z$9) | AA42: 月 | AB42: =IF(★①様式3号の１入力シート!$AB$9="","",★①様式3号の１入力シート!$AB$9) | AC42: 日
A43: 団 体 名 | D43: =IF(★①様式3号の１入力シート!$D$10="","",★①様式3号の１入力シート!$D$10)
D44: ※エントリー書に記載した名称を記入してください（例：朗読ボランティアグループさくら）
...
